BEGIN:VCALENDAR
VERSION:2.0
PRODID:-//Cumberland Valley Produce Auction - ECPv6.6.4.2//NONSGML v1.0//EN
CALSCALE:GREGORIAN
METHOD:PUBLISH
X-ORIGINAL-URL:https://cvproduceauction.com
X-WR-CALDESC:Events for Cumberland Valley Produce Auction
REFRESH-INTERVAL;VALUE=DURATION:PT1H
X-Robots-Tag:noindex
X-PUBLISHED-TTL:PT1H
BEGIN:VTIMEZONE
TZID:UTC
BEGIN:STANDARD
TZOFFSETFROM:+0000
TZOFFSETTO:+0000
TZNAME:UTC
DTSTART:20260101T000000
END:STANDARD
END:VTIMEZONE
BEGIN:VEVENT
DTSTART;TZID=UTC:20260423T090000
DTEND;TZID=UTC:20260423T170000
DTSTAMP:20260423T121003
CREATED:20260226T134314Z
LAST-MODIFIED:20260226T134314Z
UID:10000813-1776934800-1776963600@cvproduceauction.com
SUMMARY:Cumberland Valley Produce Auction
DESCRIPTION:Seasonal selection of quality Produce\, Plants\, Annuals & Perennials\, Nursery Stock\, Tropical Plants\, Pumpkins\, Etc.
URL:https://cvproduceauction.com/event/cumberland-valley-produce-auction-2/2026-04-23/
LOCATION:Cumberland Valley Produce Auction\, 101 Springfield Road\, Shippensburg\, PA\, 17257\, United States
ORGANIZER;CN="Dwayne Shirk":MAILTO:dwayne@cvproduceauction.com
END:VEVENT
BEGIN:VEVENT
DTSTART;TZID=UTC:20260428T090000
DTEND;TZID=UTC:20260428T170000
DTSTAMP:20260423T121003
CREATED:20260226T133835Z
LAST-MODIFIED:20260226T133943Z
UID:10000778-1777366800-1777395600@cvproduceauction.com
SUMMARY:Cumberland Valley Produce Auction
DESCRIPTION:Seasonal selection of quality Produce\, Plants\, Annuals & Perennials\, Nursery Stock\, Tropical Plants\, Pumpkins\, Etc.
URL:https://cvproduceauction.com/event/cumberland-valley-produce-auction/2026-04-28/
LOCATION:Cumberland Valley Produce Auction\, 101 Springfield Road\, Shippensburg\, PA\, 17257\, United States
ORGANIZER;CN="Dwayne Shirk":MAILTO:dwayne@cvproduceauction.com
END:VEVENT
BEGIN:VEVENT
DTSTART;TZID=UTC:20260430T090000
DTEND;TZID=UTC:20260430T170000
DTSTAMP:20260423T121003
CREATED:20260226T134314Z
LAST-MODIFIED:20260226T134314Z
UID:10000814-1777539600-1777568400@cvproduceauction.com
SUMMARY:Cumberland Valley Produce Auction
DESCRIPTION:Seasonal selection of quality Produce\, Plants\, Annuals & Perennials\, Nursery Stock\, Tropical Plants\, Pumpkins\, Etc.
URL:https://cvproduceauction.com/event/cumberland-valley-produce-auction-2/2026-04-30/
LOCATION:Cumberland Valley Produce Auction\, 101 Springfield Road\, Shippensburg\, PA\, 17257\, United States
ORGANIZER;CN="Dwayne Shirk":MAILTO:dwayne@cvproduceauction.com
END:VEVENT
BEGIN:VEVENT
DTSTART;TZID=UTC:20260505T090000
DTEND;TZID=UTC:20260505T170000
DTSTAMP:20260423T121003
CREATED:20260226T133835Z
LAST-MODIFIED:20260226T133943Z
UID:10000779-1777971600-1778000400@cvproduceauction.com
SUMMARY:Cumberland Valley Produce Auction
DESCRIPTION:Seasonal selection of quality Produce\, Plants\, Annuals & Perennials\, Nursery Stock\, Tropical Plants\, Pumpkins\, Etc.
URL:https://cvproduceauction.com/event/cumberland-valley-produce-auction/2026-05-05/
LOCATION:Cumberland Valley Produce Auction\, 101 Springfield Road\, Shippensburg\, PA\, 17257\, United States
ORGANIZER;CN="Dwayne Shirk":MAILTO:dwayne@cvproduceauction.com
END:VEVENT
BEGIN:VEVENT
DTSTART;TZID=UTC:20260507T090000
DTEND;TZID=UTC:20260507T170000
DTSTAMP:20260423T121003
CREATED:20260226T134314Z
LAST-MODIFIED:20260226T134314Z
UID:10000815-1778144400-1778173200@cvproduceauction.com
SUMMARY:Cumberland Valley Produce Auction
DESCRIPTION:Seasonal selection of quality Produce\, Plants\, Annuals & Perennials\, Nursery Stock\, Tropical Plants\, Pumpkins\, Etc.
URL:https://cvproduceauction.com/event/cumberland-valley-produce-auction-2/2026-05-07/
LOCATION:Cumberland Valley Produce Auction\, 101 Springfield Road\, Shippensburg\, PA\, 17257\, United States
ORGANIZER;CN="Dwayne Shirk":MAILTO:dwayne@cvproduceauction.com
END:VEVENT
BEGIN:VEVENT
DTSTART;TZID=UTC:20260512T090000
DTEND;TZID=UTC:20260512T170000
DTSTAMP:20260423T121003
CREATED:20260226T133835Z
LAST-MODIFIED:20260226T133943Z
UID:10000780-1778576400-1778605200@cvproduceauction.com
SUMMARY:Cumberland Valley Produce Auction
DESCRIPTION:Seasonal selection of quality Produce\, Plants\, Annuals & Perennials\, Nursery Stock\, Tropical Plants\, Pumpkins\, Etc.
URL:https://cvproduceauction.com/event/cumberland-valley-produce-auction/2026-05-12/
LOCATION:Cumberland Valley Produce Auction\, 101 Springfield Road\, Shippensburg\, PA\, 17257\, United States
ORGANIZER;CN="Dwayne Shirk":MAILTO:dwayne@cvproduceauction.com
END:VEVENT
BEGIN:VEVENT
DTSTART;TZID=UTC:20260514T090000
DTEND;TZID=UTC:20260514T170000
DTSTAMP:20260423T121003
CREATED:20260226T134314Z
LAST-MODIFIED:20260226T134314Z
UID:10000816-1778749200-1778778000@cvproduceauction.com
SUMMARY:Cumberland Valley Produce Auction
DESCRIPTION:Seasonal selection of quality Produce\, Plants\, Annuals & Perennials\, Nursery Stock\, Tropical Plants\, Pumpkins\, Etc.
URL:https://cvproduceauction.com/event/cumberland-valley-produce-auction-2/2026-05-14/
LOCATION:Cumberland Valley Produce Auction\, 101 Springfield Road\, Shippensburg\, PA\, 17257\, United States
ORGANIZER;CN="Dwayne Shirk":MAILTO:dwayne@cvproduceauction.com
END:VEVENT
BEGIN:VEVENT
DTSTART;TZID=UTC:20260519T090000
DTEND;TZID=UTC:20260519T170000
DTSTAMP:20260423T121003
CREATED:20260226T133835Z
LAST-MODIFIED:20260226T133943Z
UID:10000781-1779181200-1779210000@cvproduceauction.com
SUMMARY:Cumberland Valley Produce Auction
DESCRIPTION:Seasonal selection of quality Produce\, Plants\, Annuals & Perennials\, Nursery Stock\, Tropical Plants\, Pumpkins\, Etc.
URL:https://cvproduceauction.com/event/cumberland-valley-produce-auction/2026-05-19/
LOCATION:Cumberland Valley Produce Auction\, 101 Springfield Road\, Shippensburg\, PA\, 17257\, United States
ORGANIZER;CN="Dwayne Shirk":MAILTO:dwayne@cvproduceauction.com
END:VEVENT
BEGIN:VEVENT
DTSTART;TZID=UTC:20260521T090000
DTEND;TZID=UTC:20260521T170000
DTSTAMP:20260423T121003
CREATED:20260226T134314Z
LAST-MODIFIED:20260226T134314Z
UID:10000817-1779354000-1779382800@cvproduceauction.com
SUMMARY:Cumberland Valley Produce Auction
DESCRIPTION:Seasonal selection of quality Produce\, Plants\, Annuals & Perennials\, Nursery Stock\, Tropical Plants\, Pumpkins\, Etc.
URL:https://cvproduceauction.com/event/cumberland-valley-produce-auction-2/2026-05-21/
LOCATION:Cumberland Valley Produce Auction\, 101 Springfield Road\, Shippensburg\, PA\, 17257\, United States
ORGANIZER;CN="Dwayne Shirk":MAILTO:dwayne@cvproduceauction.com
END:VEVENT
BEGIN:VEVENT
DTSTART;TZID=UTC:20260526T090000
DTEND;TZID=UTC:20260526T170000
DTSTAMP:20260423T121003
CREATED:20260226T133835Z
LAST-MODIFIED:20260226T133943Z
UID:10000782-1779786000-1779814800@cvproduceauction.com
SUMMARY:Cumberland Valley Produce Auction
DESCRIPTION:Seasonal selection of quality Produce\, Plants\, Annuals & Perennials\, Nursery Stock\, Tropical Plants\, Pumpkins\, Etc.
URL:https://cvproduceauction.com/event/cumberland-valley-produce-auction/2026-05-26/
LOCATION:Cumberland Valley Produce Auction\, 101 Springfield Road\, Shippensburg\, PA\, 17257\, United States
ORGANIZER;CN="Dwayne Shirk":MAILTO:dwayne@cvproduceauction.com
END:VEVENT
BEGIN:VEVENT
DTSTART;TZID=UTC:20260528T090000
DTEND;TZID=UTC:20260528T170000
DTSTAMP:20260423T121003
CREATED:20260226T134314Z
LAST-MODIFIED:20260226T134314Z
UID:10000818-1779958800-1779987600@cvproduceauction.com
SUMMARY:Cumberland Valley Produce Auction
DESCRIPTION:Seasonal selection of quality Produce\, Plants\, Annuals & Perennials\, Nursery Stock\, Tropical Plants\, Pumpkins\, Etc.
URL:https://cvproduceauction.com/event/cumberland-valley-produce-auction-2/2026-05-28/
LOCATION:Cumberland Valley Produce Auction\, 101 Springfield Road\, Shippensburg\, PA\, 17257\, United States
ORGANIZER;CN="Dwayne Shirk":MAILTO:dwayne@cvproduceauction.com
END:VEVENT
BEGIN:VEVENT
DTSTART;TZID=UTC:20260602T090000
DTEND;TZID=UTC:20260602T170000
DTSTAMP:20260423T121003
CREATED:20260226T133835Z
LAST-MODIFIED:20260226T133943Z
UID:10000783-1780390800-1780419600@cvproduceauction.com
SUMMARY:Cumberland Valley Produce Auction
DESCRIPTION:Seasonal selection of quality Produce\, Plants\, Annuals & Perennials\, Nursery Stock\, Tropical Plants\, Pumpkins\, Etc.
URL:https://cvproduceauction.com/event/cumberland-valley-produce-auction/2026-06-02/
LOCATION:Cumberland Valley Produce Auction\, 101 Springfield Road\, Shippensburg\, PA\, 17257\, United States
ORGANIZER;CN="Dwayne Shirk":MAILTO:dwayne@cvproduceauction.com
END:VEVENT
BEGIN:VEVENT
DTSTART;TZID=UTC:20260604T090000
DTEND;TZID=UTC:20260604T170000
DTSTAMP:20260423T121003
CREATED:20260226T134314Z
LAST-MODIFIED:20260226T134314Z
UID:10000819-1780563600-1780592400@cvproduceauction.com
SUMMARY:Cumberland Valley Produce Auction
DESCRIPTION:Seasonal selection of quality Produce\, Plants\, Annuals & Perennials\, Nursery Stock\, Tropical Plants\, Pumpkins\, Etc.
URL:https://cvproduceauction.com/event/cumberland-valley-produce-auction-2/2026-06-04/
LOCATION:Cumberland Valley Produce Auction\, 101 Springfield Road\, Shippensburg\, PA\, 17257\, United States
ORGANIZER;CN="Dwayne Shirk":MAILTO:dwayne@cvproduceauction.com
END:VEVENT
BEGIN:VEVENT
DTSTART;TZID=UTC:20260609T090000
DTEND;TZID=UTC:20260609T170000
DTSTAMP:20260423T121003
CREATED:20260226T133835Z
LAST-MODIFIED:20260226T133943Z
UID:10000784-1780995600-1781024400@cvproduceauction.com
SUMMARY:Cumberland Valley Produce Auction
DESCRIPTION:Seasonal selection of quality Produce\, Plants\, Annuals & Perennials\, Nursery Stock\, Tropical Plants\, Pumpkins\, Etc.
URL:https://cvproduceauction.com/event/cumberland-valley-produce-auction/2026-06-09/
LOCATION:Cumberland Valley Produce Auction\, 101 Springfield Road\, Shippensburg\, PA\, 17257\, United States
ORGANIZER;CN="Dwayne Shirk":MAILTO:dwayne@cvproduceauction.com
END:VEVENT
BEGIN:VEVENT
DTSTART;TZID=UTC:20260611T090000
DTEND;TZID=UTC:20260611T170000
DTSTAMP:20260423T121003
CREATED:20260226T134314Z
LAST-MODIFIED:20260226T134314Z
UID:10000820-1781168400-1781197200@cvproduceauction.com
SUMMARY:Cumberland Valley Produce Auction
DESCRIPTION:Seasonal selection of quality Produce\, Plants\, Annuals & Perennials\, Nursery Stock\, Tropical Plants\, Pumpkins\, Etc.
URL:https://cvproduceauction.com/event/cumberland-valley-produce-auction-2/2026-06-11/
LOCATION:Cumberland Valley Produce Auction\, 101 Springfield Road\, Shippensburg\, PA\, 17257\, United States
ORGANIZER;CN="Dwayne Shirk":MAILTO:dwayne@cvproduceauction.com
END:VEVENT
BEGIN:VEVENT
DTSTART;TZID=UTC:20260616T090000
DTEND;TZID=UTC:20260616T170000
DTSTAMP:20260423T121003
CREATED:20260226T133835Z
LAST-MODIFIED:20260226T133943Z
UID:10000785-1781600400-1781629200@cvproduceauction.com
SUMMARY:Cumberland Valley Produce Auction
DESCRIPTION:Seasonal selection of quality Produce\, Plants\, Annuals & Perennials\, Nursery Stock\, Tropical Plants\, Pumpkins\, Etc.
URL:https://cvproduceauction.com/event/cumberland-valley-produce-auction/2026-06-16/
LOCATION:Cumberland Valley Produce Auction\, 101 Springfield Road\, Shippensburg\, PA\, 17257\, United States
ORGANIZER;CN="Dwayne Shirk":MAILTO:dwayne@cvproduceauction.com
END:VEVENT
BEGIN:VEVENT
DTSTART;TZID=UTC:20260618T090000
DTEND;TZID=UTC:20260618T170000
DTSTAMP:20260423T121003
CREATED:20260226T134314Z
LAST-MODIFIED:20260226T134314Z
UID:10000821-1781773200-1781802000@cvproduceauction.com
SUMMARY:Cumberland Valley Produce Auction
DESCRIPTION:Seasonal selection of quality Produce\, Plants\, Annuals & Perennials\, Nursery Stock\, Tropical Plants\, Pumpkins\, Etc.
URL:https://cvproduceauction.com/event/cumberland-valley-produce-auction-2/2026-06-18/
LOCATION:Cumberland Valley Produce Auction\, 101 Springfield Road\, Shippensburg\, PA\, 17257\, United States
ORGANIZER;CN="Dwayne Shirk":MAILTO:dwayne@cvproduceauction.com
END:VEVENT
BEGIN:VEVENT
DTSTART;TZID=UTC:20260623T090000
DTEND;TZID=UTC:20260623T170000
DTSTAMP:20260423T121003
CREATED:20260226T133835Z
LAST-MODIFIED:20260226T133943Z
UID:10000786-1782205200-1782234000@cvproduceauction.com
SUMMARY:Cumberland Valley Produce Auction
DESCRIPTION:Seasonal selection of quality Produce\, Plants\, Annuals & Perennials\, Nursery Stock\, Tropical Plants\, Pumpkins\, Etc.
URL:https://cvproduceauction.com/event/cumberland-valley-produce-auction/2026-06-23/
LOCATION:Cumberland Valley Produce Auction\, 101 Springfield Road\, Shippensburg\, PA\, 17257\, United States
ORGANIZER;CN="Dwayne Shirk":MAILTO:dwayne@cvproduceauction.com
END:VEVENT
BEGIN:VEVENT
DTSTART;TZID=UTC:20260625T090000
DTEND;TZID=UTC:20260625T170000
DTSTAMP:20260423T121004
CREATED:20260226T134314Z
LAST-MODIFIED:20260226T134314Z
UID:10000822-1782378000-1782406800@cvproduceauction.com
SUMMARY:Cumberland Valley Produce Auction
DESCRIPTION:Seasonal selection of quality Produce\, Plants\, Annuals & Perennials\, Nursery Stock\, Tropical Plants\, Pumpkins\, Etc.
URL:https://cvproduceauction.com/event/cumberland-valley-produce-auction-2/2026-06-25/
LOCATION:Cumberland Valley Produce Auction\, 101 Springfield Road\, Shippensburg\, PA\, 17257\, United States
ORGANIZER;CN="Dwayne Shirk":MAILTO:dwayne@cvproduceauction.com
END:VEVENT
BEGIN:VEVENT
DTSTART;TZID=UTC:20260630T090000
DTEND;TZID=UTC:20260630T170000
DTSTAMP:20260423T121004
CREATED:20260226T133835Z
LAST-MODIFIED:20260226T133943Z
UID:10000787-1782810000-1782838800@cvproduceauction.com
SUMMARY:Cumberland Valley Produce Auction
DESCRIPTION:Seasonal selection of quality Produce\, Plants\, Annuals & Perennials\, Nursery Stock\, Tropical Plants\, Pumpkins\, Etc.
URL:https://cvproduceauction.com/event/cumberland-valley-produce-auction/2026-06-30/
LOCATION:Cumberland Valley Produce Auction\, 101 Springfield Road\, Shippensburg\, PA\, 17257\, United States
ORGANIZER;CN="Dwayne Shirk":MAILTO:dwayne@cvproduceauction.com
END:VEVENT
BEGIN:VEVENT
DTSTART;TZID=UTC:20260702T090000
DTEND;TZID=UTC:20260702T170000
DTSTAMP:20260423T121004
CREATED:20260226T134314Z
LAST-MODIFIED:20260226T134314Z
UID:10000823-1782982800-1783011600@cvproduceauction.com
SUMMARY:Cumberland Valley Produce Auction
DESCRIPTION:Seasonal selection of quality Produce\, Plants\, Annuals & Perennials\, Nursery Stock\, Tropical Plants\, Pumpkins\, Etc.
URL:https://cvproduceauction.com/event/cumberland-valley-produce-auction-2/2026-07-02/
LOCATION:Cumberland Valley Produce Auction\, 101 Springfield Road\, Shippensburg\, PA\, 17257\, United States
ORGANIZER;CN="Dwayne Shirk":MAILTO:dwayne@cvproduceauction.com
END:VEVENT
BEGIN:VEVENT
DTSTART;TZID=UTC:20260707T090000
DTEND;TZID=UTC:20260707T170000
DTSTAMP:20260423T121004
CREATED:20260226T133835Z
LAST-MODIFIED:20260226T133943Z
UID:10000788-1783414800-1783443600@cvproduceauction.com
SUMMARY:Cumberland Valley Produce Auction
DESCRIPTION:Seasonal selection of quality Produce\, Plants\, Annuals & Perennials\, Nursery Stock\, Tropical Plants\, Pumpkins\, Etc.
URL:https://cvproduceauction.com/event/cumberland-valley-produce-auction/2026-07-07/
LOCATION:Cumberland Valley Produce Auction\, 101 Springfield Road\, Shippensburg\, PA\, 17257\, United States
ORGANIZER;CN="Dwayne Shirk":MAILTO:dwayne@cvproduceauction.com
END:VEVENT
BEGIN:VEVENT
DTSTART;TZID=UTC:20260709T090000
DTEND;TZID=UTC:20260709T170000
DTSTAMP:20260423T121004
CREATED:20260226T134314Z
LAST-MODIFIED:20260226T134314Z
UID:10000824-1783587600-1783616400@cvproduceauction.com
SUMMARY:Cumberland Valley Produce Auction
DESCRIPTION:Seasonal selection of quality Produce\, Plants\, Annuals & Perennials\, Nursery Stock\, Tropical Plants\, Pumpkins\, Etc.
URL:https://cvproduceauction.com/event/cumberland-valley-produce-auction-2/2026-07-09/
LOCATION:Cumberland Valley Produce Auction\, 101 Springfield Road\, Shippensburg\, PA\, 17257\, United States
ORGANIZER;CN="Dwayne Shirk":MAILTO:dwayne@cvproduceauction.com
END:VEVENT
BEGIN:VEVENT
DTSTART;TZID=UTC:20260714T090000
DTEND;TZID=UTC:20260714T170000
DTSTAMP:20260423T121004
CREATED:20260226T133835Z
LAST-MODIFIED:20260226T133943Z
UID:10000789-1784019600-1784048400@cvproduceauction.com
SUMMARY:Cumberland Valley Produce Auction
DESCRIPTION:Seasonal selection of quality Produce\, Plants\, Annuals & Perennials\, Nursery Stock\, Tropical Plants\, Pumpkins\, Etc.
URL:https://cvproduceauction.com/event/cumberland-valley-produce-auction/2026-07-14/
LOCATION:Cumberland Valley Produce Auction\, 101 Springfield Road\, Shippensburg\, PA\, 17257\, United States
ORGANIZER;CN="Dwayne Shirk":MAILTO:dwayne@cvproduceauction.com
END:VEVENT
BEGIN:VEVENT
DTSTART;TZID=UTC:20260716T090000
DTEND;TZID=UTC:20260716T170000
DTSTAMP:20260423T121004
CREATED:20260226T134314Z
LAST-MODIFIED:20260226T134314Z
UID:10000825-1784192400-1784221200@cvproduceauction.com
SUMMARY:Cumberland Valley Produce Auction
DESCRIPTION:Seasonal selection of quality Produce\, Plants\, Annuals & Perennials\, Nursery Stock\, Tropical Plants\, Pumpkins\, Etc.
URL:https://cvproduceauction.com/event/cumberland-valley-produce-auction-2/2026-07-16/
LOCATION:Cumberland Valley Produce Auction\, 101 Springfield Road\, Shippensburg\, PA\, 17257\, United States
ORGANIZER;CN="Dwayne Shirk":MAILTO:dwayne@cvproduceauction.com
END:VEVENT
BEGIN:VEVENT
DTSTART;TZID=UTC:20260721T090000
DTEND;TZID=UTC:20260721T170000
DTSTAMP:20260423T121004
CREATED:20260226T133835Z
LAST-MODIFIED:20260226T133943Z
UID:10000790-1784624400-1784653200@cvproduceauction.com
SUMMARY:Cumberland Valley Produce Auction
DESCRIPTION:Seasonal selection of quality Produce\, Plants\, Annuals & Perennials\, Nursery Stock\, Tropical Plants\, Pumpkins\, Etc.
URL:https://cvproduceauction.com/event/cumberland-valley-produce-auction/2026-07-21/
LOCATION:Cumberland Valley Produce Auction\, 101 Springfield Road\, Shippensburg\, PA\, 17257\, United States
ORGANIZER;CN="Dwayne Shirk":MAILTO:dwayne@cvproduceauction.com
END:VEVENT
BEGIN:VEVENT
DTSTART;TZID=UTC:20260723T090000
DTEND;TZID=UTC:20260723T170000
DTSTAMP:20260423T121004
CREATED:20260226T134314Z
LAST-MODIFIED:20260226T134314Z
UID:10000826-1784797200-1784826000@cvproduceauction.com
SUMMARY:Cumberland Valley Produce Auction
DESCRIPTION:Seasonal selection of quality Produce\, Plants\, Annuals & Perennials\, Nursery Stock\, Tropical Plants\, Pumpkins\, Etc.
URL:https://cvproduceauction.com/event/cumberland-valley-produce-auction-2/2026-07-23/
LOCATION:Cumberland Valley Produce Auction\, 101 Springfield Road\, Shippensburg\, PA\, 17257\, United States
ORGANIZER;CN="Dwayne Shirk":MAILTO:dwayne@cvproduceauction.com
END:VEVENT
BEGIN:VEVENT
DTSTART;TZID=UTC:20260728T090000
DTEND;TZID=UTC:20260728T170000
DTSTAMP:20260423T121004
CREATED:20260226T133835Z
LAST-MODIFIED:20260226T133943Z
UID:10000791-1785229200-1785258000@cvproduceauction.com
SUMMARY:Cumberland Valley Produce Auction
DESCRIPTION:Seasonal selection of quality Produce\, Plants\, Annuals & Perennials\, Nursery Stock\, Tropical Plants\, Pumpkins\, Etc.
URL:https://cvproduceauction.com/event/cumberland-valley-produce-auction/2026-07-28/
LOCATION:Cumberland Valley Produce Auction\, 101 Springfield Road\, Shippensburg\, PA\, 17257\, United States
ORGANIZER;CN="Dwayne Shirk":MAILTO:dwayne@cvproduceauction.com
END:VEVENT
BEGIN:VEVENT
DTSTART;TZID=UTC:20260730T090000
DTEND;TZID=UTC:20260730T170000
DTSTAMP:20260423T121004
CREATED:20260226T134314Z
LAST-MODIFIED:20260226T134314Z
UID:10000827-1785402000-1785430800@cvproduceauction.com
SUMMARY:Cumberland Valley Produce Auction
DESCRIPTION:Seasonal selection of quality Produce\, Plants\, Annuals & Perennials\, Nursery Stock\, Tropical Plants\, Pumpkins\, Etc.
URL:https://cvproduceauction.com/event/cumberland-valley-produce-auction-2/2026-07-30/
LOCATION:Cumberland Valley Produce Auction\, 101 Springfield Road\, Shippensburg\, PA\, 17257\, United States
ORGANIZER;CN="Dwayne Shirk":MAILTO:dwayne@cvproduceauction.com
END:VEVENT
BEGIN:VEVENT
DTSTART;TZID=UTC:20260804T090000
DTEND;TZID=UTC:20260804T170000
DTSTAMP:20260423T121004
CREATED:20260226T133835Z
LAST-MODIFIED:20260226T133943Z
UID:10000792-1785834000-1785862800@cvproduceauction.com
SUMMARY:Cumberland Valley Produce Auction
DESCRIPTION:Seasonal selection of quality Produce\, Plants\, Annuals & Perennials\, Nursery Stock\, Tropical Plants\, Pumpkins\, Etc.
URL:https://cvproduceauction.com/event/cumberland-valley-produce-auction/2026-08-04/
LOCATION:Cumberland Valley Produce Auction\, 101 Springfield Road\, Shippensburg\, PA\, 17257\, United States
ORGANIZER;CN="Dwayne Shirk":MAILTO:dwayne@cvproduceauction.com
END:VEVENT
END:VCALENDAR